BEGIN:VCALENDAR
VERSION:2.0
METHOD:PUBLISH
BEGIN:VEVENT
UID:WILD_APRICOT_EVENT_3543138_SESSION_1
DTSTART:20191112T082500Z
DTEND:20200810T213000Z
SUMMARY:Event Related Potentials in clinical practice webinars with Prof. Juri Kropotov
LOCATION:On-line on Zoom
DESCRIPTION:https://www.braininstitute.com.au/event-3543138\n\n Precision medicine tools for the brain\n  Event Related Potentials in clinical practice\n   webinars with Prof. Juri Kropotov\n     In these 1-hour webinars\, Professor Kropotov will review the methods for ERPs recording\, the approaches of extracting latent components\, discuss advantages and disadvantages of different ERP databases\, and describe cases of different psychiatric conditions. There are 7 webinars in total. The first webinar:\n    Free Introduction to Event Related Potentials in Clinical Practice\n    is scheduled for the \n     12th of November 2019 at 6:30 pm Sydney AEDT. \n    It will provide an introductory overview of ERPs\, their association with stages of information processing and their importance in clinical practice. The subsequent six webinars will address ERPs in  ADHD\, ASD\, Schizophrenia\, OCD\, Alzheimer’s Disease and Peak Performance.\n    It is highly advisable as Bundle of 6 webinars for AU$ 250.00\n\n   Save $$$  by committing to 6 webinars:\n          • ERPs and ADHD\, 6.30pm  Sydney AEDT\, Tuesday 19th November 2019            • ERPs and ASD\, 6.30pm Sydney AEDT\, Tuesday 26th November 2019            • ERPs and Schizophrenia\, 6.30pm  Sydney AEDT\, Tuesday 3rd December 2019            • ERPs and Obsessive Compulsive Disorder\, 6.30pm  AEDT\, Tuesday 10th December 2019            • ERPs and Alzheimer’s Disease\, 6.30pm Sydney AEDT  Tuesday 17th December            • ERPs and Peak Performance\, 6.30pm Sydney AEDT\, Tuesday 7th January 2020\n      Webinars will delivered using Zoom and you will receive a link prior to each webinar. \n  If you have difficulties to attend any webinar your will be able to watch the recording\n  for inquiries please contact Rustam Yumash by email \n  or phone: 0413181147 intl:+(61)413181147\n
DTSTAMP:20260424T160321Z
END:VEVENT
END:VCALENDAR
