BEGIN:VCALENDAR
VERSION:2.0
METHOD:PUBLISH
BEGIN:VEVENT
UID:WILD_APRICOT_EVENT_3411345_SESSION_1
DTSTART:20191112T073000Z
DTEND:20201112T090000Z
SUMMARY:Brain-based Assessment in Mental Health:QEEG & ERPs Training Courses
LOCATION:Webinars and Gold Coast venue for practical part
DESCRIPTION:https://www.braininstitute.com.au/event-3411345\n\n \n\n  Brain-based Assessment in Mental Health\n  QEEG & ERPs training course\n  \n\n     STEP I.  Build your knowledge base in Event Related Potentials application in clinical practice\n\n      In these 1-hour webinars\, Professor Kropotov will review the methods for ERPs recording\, the approaches of extracting latent components\, discuss advantages and disadvantages of different ERP databases\, and describe cases of different psychiatric conditions. There are 7 webinars in total. The first is FREE TO REGISTER and will provide an introductory overview of ERPs\, their association with stages of information processing and their importance in clinical practice. The subsequent six webinars will address: ADHD\, ASD\, Schizophrenia\, OCD\, Alzheimer’s Disease and Peak Performance.    You may register for each topic independently or purchase the series as a 6-pack.\n         STEP II. Develop Clinical Understanding \n   At this stage\, you may choose to access a QEEG and/or ERPs Analysis Service. Either collect the QEEG & ERP data independently and send the data for analysis and recommendations or send your clients to one of our trained service providers for their QEEG/ERP study to be completed. You may then choose a live consultation with Professor Juri Kropotov to discuss the findings or choose to receive a written report or access both the written report and live consult with Juri.\n   \n         STEP III.  Develop EEG and ERP Assessment Capacity\n       Michelle Aniftos\, QEEG Diplomat\,offers you a QEEG and ERP course that requires seven core modules to be completed by distance education (including webinar tutorial sessions) and followed by a 2-day or 3-day practicum to complete an IQCB-accredited 36-hour QEEG Didactic Course.\n         \n\n      STEP IV.   Develop ERP Analysis and Reporting Competencies\n       At this stage\, you are ready for face-to-face training with Professor Yuri Kropotov who will visit Australia in September 2020 to teach his 4-day ERP Analysis Workshop in Melbourne.\n         STEP V. Ongoing Professional Supervision & Technical Support\n       a) Having completed an accredited 36-hour QEEG Didactic Course\, delegates pursuing IQCB QEEG Certification need to submit 5 case presentations to an approved QEEG-D Mentor\, a total of 10 contact hours in mentoring\, and successfully complete the Board Examination to attain QEEG Certification.\n    b) Similarly\, to complete ERP Analysis Certificate\, you will need to have 10 hours of case supervision for your skills' development.\n         \n\n      \n\n    
DTSTAMP:20260424T161045Z
END:VEVENT
END:VCALENDAR
