BEGIN:VCALENDAR
VERSION:2.0
METHOD:PUBLISH
BEGIN:VEVENT
UID:WILD_APRICOT_EVENT_2540919_SESSION_1
DTSTART:20170418T233000Z
DTEND:20170419T043000Z
SUMMARY:Neuromarkers in Psychiatry:ADHD\, OCD & Schizophrenia APS seminars Perth\, Melbourne\, Sydney (session 1 of 3)
LOCATION:Perth\, Melbourne\, Sydney
DESCRIPTION:https://www.braininstitute.com.au/event-2540919\n\nNeuromarkers in Psychiatry: ADHD\, OCD & Schizophrenia\n  with Prof. Juri Kropotov\n\n
DTSTAMP:20260424T170818Z
END:VEVENT
BEGIN:VEVENT
UID:WILD_APRICOT_EVENT_2540919_SESSION_2
DTSTART:20170421T230000Z
DTEND:20170422T043000Z
SUMMARY:Neuromarkers in Psychiatry:ADHD\, OCD & Schizophrenia APS seminars Perth\, Melbourne\, Sydney (session 2 of 3)
LOCATION:Perth\, Melbourne\, Sydney
DESCRIPTION:https://www.braininstitute.com.au/event-2540919\n\nNeuromarkers in Psychiatry: ADHD\, OCD & Schizophrenia\n  with Prof. Juri Kropotov\n\n
DTSTAMP:20260424T170818Z
END:VEVENT
BEGIN:VEVENT
UID:WILD_APRICOT_EVENT_2540919_SESSION_3
DTSTART:20170423T233000Z
DTEND:20170424T043000Z
SUMMARY:Neuromarkers in Psychiatry:ADHD\, OCD & Schizophrenia APS seminars Perth\, Melbourne\, Sydney (session 3 of 3)
LOCATION:Perth\, Melbourne\, Sydney
DESCRIPTION:https://www.braininstitute.com.au/event-2540919\n\nNeuromarkers in Psychiatry: ADHD\, OCD & Schizophrenia\n  with Prof. Juri Kropotov\n\n
DTSTAMP:20260424T170818Z
END:VEVENT
END:VCALENDAR
