BEGIN:VCALENDAR
VERSION:2.0
METHOD:PUBLISH
BEGIN:VEVENT
UID:WILD_APRICOT_EVENT_2454128_SESSION_1
DTSTART:20170225T070000Z
DTEND:20170225T090000Z
SUMMARY:Masterclass on Functional Neuromarkers in dementia_Prof. Juri Kropotov
LOCATION:Go to webinar
DESCRIPTION:https://www.braininstitute.com.au/event-2454128\n\nFunctional Neuromarkers in Dementia \n\n       Online  Masterclass & Case study       \n      With Prof. Juri Kropotov  and Dr Philip Morris\n    Date:  25th of February 2017\n    Time: 18:00 pm AEST (Sydney time)\n\n    \n\n           In this masterclass Prof. Yury Kropotov will provide a short lecture on neuromarkers of dementia and the role of electroencephalography (QEEG) and cognitive event related potentials (ERPs) can play in diagnostics and clinical management of dementia.  He will then present the atypical early onset dementia case study with EEG and ERPs analysis findings. Dr Philip Morris\, an Australian expert in memory issues and dementia will provide expert comments from the clinical perspective.\n      This masterclass will be valuable for psychiatrists\, neurologists\, psychologists and other professions involved in brain based mental health and interested in neuromarkers and neuromodulation.\n      Read more on this masterclass and lecturers here:\n      Masterclass on Functional Neuromarkers of Dementia\n\n            \n      \n\n  \n\n  \n\n     \n 
DTSTAMP:20260424T171509Z
END:VEVENT
END:VCALENDAR
