BEGIN:VCALENDAR
VERSION:2.0
METHOD:PUBLISH
BEGIN:VEVENT
UID:WILD_APRICOT_EVENT_2390955_SESSION_1
DTSTART:20170425T223000Z
DTEND:20170427T070000Z
SUMMARY:Introduction to Functional Neuromarkers 2-day workshop with Prof. Yury Kropotov
LOCATION:Tweed Heads
DESCRIPTION:https://www.braininstitute.com.au/event-2390955\n\nIntroduction to Functional Neuromarkers in mental health\n  2-day workshop with \n\n  with Prof. Juri Kropotov\n  Date: 26-27of April 2017\n\n     We decided to  combine the 1-day Introduction to Functional Neuromarkers with the   hands-on training to learn to master EEG and ERPs recording using WinEEG\n\n    It is a prerequisite training for those who are attending the Advanced course with Prof. Kropotov and haven't done any Introductory course and never had their EEG and ERPs recorded\n\n   See details at this page:\n  \n\n    Functional Neuromarkers hands-on QEEG and ERPs-technical workshop\n\n\n  \n\n
DTSTAMP:20260424T170926Z
END:VEVENT
END:VCALENDAR
