BEGIN:VCALENDAR
VERSION:2.0
METHOD:PUBLISH
BEGIN:VEVENT
UID:WILD_APRICOT_EVENT_2383572_SESSION_1
DTSTART:20170427T223000Z
DTEND:20170430T070000Z
SUMMARY:Functional Neuromarkers Advanced workshop with Prof. Juri Kropotov
LOCATION:Tweed Heads
DESCRIPTION:https://www.braininstitute.com.au/event-2383572\n\n3-day Advanced workshop\n  Functional Neuromarkers\n   in brain based clinical practice of mental health\n  with Prof. Yury Kropotov\n  Date: 28-30 of  April 2017\n  Coolangatta/Tweed Heads\n        \n\n  for more details please visit the event page:\n     Functional Neuromarkers 2017 workshops with Prof. Yury Kropotov in Australia\n   \n\n  \n\n
DTSTAMP:20260424T165203Z
END:VEVENT
END:VCALENDAR
